BEGIN:VCALENDAR
VERSION:2.0
PRODID:Mosman Park Men's Community Shed
CALSCALE:GREGORIAN
BEGIN:VEVENT
DTSTAMP:20180225T051249Z
UID:ff243fbc-9def-4bdc-bf6e-a55067050979
DTSTART:20171105T013000Z
DTEND:20171105T063000Z
DESCRIPTION:Featuring:\n\n\n	A variety of different Craft Stalls (for a ful
 l list see the Craft Market web page)\n	Food Outlets (including foods from 
 Morocco\, Turkey & S.E.Asia plus the famous Shed BBQ)\n	Children's Entertai
 nment from "Rosie O"\, "Sand Wizard" and other fair ground activities\n	Vin
 tage Car Display from 10:30 on the day\n	Antiques Re-Discovered - open all 
 day - bring a photo or two if you can't carry it!\n	Music from our regular 
 muso's the "Katz" and newcomers from the Shed - the "Shed Boys"\n	Shed Tour
 s - see the new extension!\n\n
LOCATION:Tom Perrott Oval\, McCabe Street\, Mosman Park
SUMMARY:Mosman Craft Markets
URL:http://mpms.org.au/public/events/13027-mosman-craft-markets
END:VEVENT
END:VCALENDAR
